Workbook

Sheet 5（面试、体检、考察、录用）公示名单
A1: 2023 年杭州市萧山区考试录用公务员考察公示名单（一）
A2: 序号 | B2: 姓名 | C2: 性别 | D2: 准考证号 | E2: 毕业院校或工作单位 | F2: 报考单位 | G2: 报考职位
A3: 1 | B3: 陶奕源 | C3: 男 | D3: 101081201314 | E3: =VLOOKUP(B3,[1]体检公示!$B$3:$E$66,4,0) -> 苏州大学王健法学院 | F3: 萧山区人民法院 | G3: 法官助理1
A4: 2 | B4: 斯航 | C4: 男 | D4: 101081202425 | E4: =VLOOKUP(B4,[1]体检公示!$B$3:$E$66,4,0) -> 上海海事大学法学院 | F4: 萧山区人民法院 | G4: 法官助理1
A5: 3 | B5: 张天宇 | C5: 女 | D5: 101081202701 | E5: =VLOOKUP(B5,[1]体检公示!$B$3:$E$66,4,0) -> 澳门大学 | F5: 萧山区人民法院 | G5: 法官助理2
A6: 4 | B6: 孙靖邦 | C6: 男 | D6: 501010506629 | E6: =VLOOKUP(B6,[1]体检公示!$B$3:$E$66,4,0) -> 重庆理工大学 | F6: 萧山区人民法院 | G6: 司法警察
A7: 5 | B7: 朱明浩 | C7: 男 | D7: 101081602315 | E7: =VLOOKUP(B7,[1]体检公示!$B$3:$E$66,4,0) -> 甘肃政法大学 | F7: 萧山区人民检察院 | G7: 检察官助理3
A8: 6 | B8: 夏雨田 | C8: 男 | D8: 101081200203 | E8: =VLOOKUP(B8,[1]体检公示!$B$3:$E$66,4,0) -> 宁波诺丁汉大学商学院财务管理专业 | F8: 萧山区财政局 | G8: 工作人员1
A9: 7 | B9: 李昊龙 | C9: 男 | D9: 101081200628 | E9: =VLOOKUP(B9,[1]体检公示!$B$3:$E$66,4,0) -> 国网河北省邢台市环城供电分公司 | F9: 萧山区财政局 | G9: 工作人员1
A10: 8 | B10: 陈昊钰 | C10: 女 | D10: 101081201424 | E10: =VLOOKUP(B10,[1]体检公示!$B$3:$E$66,4,0) -> 香港中文大学，会计学院，会计学 | F10: 萧山区财政局 | G10: 工作人员2
A11: 9 | B11: 金正楠 | C11: 男 | D11: 101081603020 | E11: =VLOOKUP(B11,[1]体检公示!$B$3:$E$66,4,0) -> 萧山区盈丰街道办事处 | F11: 萧山区农业农村局 | G11: 工作人员1
A12: 10 | B12: 钱坤 | C12: 男 | D12: 101081601221 | E12: 宁波市江北区人民政府庄桥街道办事处 | F12: 萧山区农业农村局 | G12: 工作人员2
A13: 11 | B13: 刘泽宇 | C13: 男 | D13: 101081100620 | E13: =VLOOKUP(B13,[1]体检公示!$B$3:$E$66,4,0) -> 哈尔滨工业大学（深圳） | F13: 萧山区商务局 | G13: 工作人员
A14: 12 | B14: 刘可欣 | C14: 女 | D14: 101081601408 | E14: =VLOOKUP(B14,[1]体检公示!$B$3:$E$66,4,0) -> 广东广信通信服务有限公司 | F14: 萧山区审计局 | G14: 审计监督
A15: 13 | B15: 沈宇橙 | C15: 男 | D15: 301081301001 | E15: =VLOOKUP(B15,[1]体检公示!$B$3:$E$66,4,0) -> 浙江财经大学法学院 | F15: 萧山区市场监督管理局基层所 | G15: 一线执法1
A16: 14 | B16: 贾驭原 | C16: 男 | D16: 301081303412 | E16: =VLOOKUP(B16,[1]体检公示!$B$3:$E$66,4,0) -> 杭州映帘信息科技有限公司 | F16: 萧山区市场监督管理局基层所 | G16: 一线执法1
A17: 15 | B17: 李逍 | C17: 男 | D17: 301081302008 | E17: =VLOOKUP(B17,[1]体检公示!$B$3:$E$66,4,0) -> 浙江传媒学院新闻与传播学院新闻与传播专业数字媒体与智能传播方向 | F17: 萧山区市场监督管理局基层所 | G17: 一线执法1
A18: 16 | B18: 邵伊凡 | C18: 女 | D18: 301081303505 | E18: =VLOOKUP(B18,[1]体检公示!$B$3:$E$66,4,0) -> 上海外国语大学国际工商管理学院 | F18: 萧山区市场监督管理局基层所 | G18: 一线执法2
A19: 17 | B19: 江东晟 | C19: 男 | D19: 301081302108 | E19: =VLOOKUP(B19,[1]体检公示!$B$3:$E$66,4,0) -> 商学院工商管理专业 2021年应届毕业生 | F19: 萧山区市场监督管理局基层所 | G19: 一线执法3
A20: 18 | B20: 苏远 | C20: 男 | D20: 301081302129 | E20: =VLOOKUP(B20,[1]体检公示!$B$3:$E$66,4,0) -> 浙江大学生物系统工程与食品科学学院 | F20: 萧山区市场监督管理局基层所 | G20: 一线执法3
A21: 19 | B21: 陈泽铠 | C21: 男 | D21: 301081302612 | E21: =VLOOKUP(B21,[1]体检公示!$B$3:$E$66,4,0) -> 浙江财经大学会计学院19财务1班 | F21: 萧山区市场监督管理局基层所 | G21: 一线执法3
A22: 20 | B22: 李亦斌 | C22: 男 | D22: 301081300620 | E22: =VLOOKUP(B22,[1]体检公示!$B$3:$E$66,4,0) -> 浙江工业大学 | F22: 萧山区市场监督管理局基层所 | G22: 一线执法3
A23: 21 | B23: 周翰鸣 | C23: 男 | D23: 301081301228 | E23: =VLOOKUP(B23,[1]体检公示!$B$3:$E$66,4,0) -> 杭州海事局后勤管理中心 | F23: 萧山区市场监督管理局基层所 | G23: 一线执法3
A24: 22 | B24: 高华峰 | C24: 男 | D24: 301081303315 | E24: =VLOOKUP(B24,[1]体检公示!$B$3:$E$66,4,0) -> 越城区经济和信息化局 | F24: 萧山区市场监督管理局基层所 | G24: 一线执法5
... A48: 46 | B48: 杜嘉浩 | C48: 男 | D48: 101081501924 | E48: =VLOOKUP(B48,[1]体检公示!$B$3:$E$66,4,0) -> 浙江大学 | F48: 萧山区医疗保障管理服务中心 | G48: 工作人员
