Workbook

Sheet 考察公示名单
A1: 2022 年杭州市临安区考试录用公务员考察公示名单（一）
A2: 序号 | B2: 姓名 | C2: 性别 | D2: 准考证号 | E2: 毕业院校或工作单位 | F2: 报考单位 | G2: 报考职位
A3: 1 | B3: 黄加安 | C3: =VLOOKUP(B:B,[1]体检公示名单!$B:$C,2,FALSE) -> 男 | D3: =VLOOKUP(B:B,[1]体检公示名单!$B:$D,3,FALSE) -> 101052901606 | E3: =VLOOKUP(B:B,[1]体检公示名单!$B:$E,4,FALSE) -> 伦敦玛丽女王大学经济与金融学院银行与金融专业 | F3: =VLOOKUP(B:B,[1]体检公示名单!$B:$F,5,FALSE) -> 杭州市临安区财政局 | G3: =VLOOKUP(B:B,[1]体检公示名单!$B:$G,6,FALSE) -> 财政管理
A4: 2 | B4: 罗光远 | C4: =VLOOKUP(B:B,[1]体检公示名单!$B:$C,2,FALSE) -> 男 | D4: =VLOOKUP(B:B,[1]体检公示名单!$B:$D,3,FALSE) -> 101052905117 | E4: =VLOOKUP(B:B,[1]体检公示名单!$B:$E,4,FALSE) -> 华南农业大学园艺学院设施农业科学与工程系 | F4: =VLOOKUP(B:B,[1]体检公示名单!$B:$F,5,FALSE) -> 杭州市临安区畜牧农机发展中心 | G4: =VLOOKUP(B:B,[1]体检公示名单!$B:$G,6,FALSE) -> 工作人员1
A5: 3 | B5: 王晨 | C5: =VLOOKUP(B:B,[1]体检公示名单!$B:$C,2,FALSE) -> 男 | D5: =VLOOKUP(B:B,[1]体检公示名单!$B:$D,3,FALSE) -> 101052902422 | E5: =VLOOKUP(B:B,[1]体检公示名单!$B:$E,4,FALSE) -> 浙江财经大学经济学院 | F5: =VLOOKUP(B:B,[1]体检公示名单!$B:$F,5,FALSE) -> 杭州市临安区发展和改革局 | G5: =VLOOKUP(B:B,[1]体检公示名单!$B:$G,6,FALSE) -> 工作人员
A6: 4 | B6: 周俊儒 | C6: =VLOOKUP(B:B,[1]体检公示名单!$B:$C,2,FALSE) -> 男 | D6: =VLOOKUP(B:B,[1]体检公示名单!$B:$D,3,FALSE) -> 101052903207 | E6: =VLOOKUP(B:B,[1]体检公示名单!$B:$E,4,FALSE) -> 待业 | F6: =VLOOKUP(B:B,[1]体检公示名单!$B:$F,5,FALSE) -> 杭州市临安区锦南新城管理委员会 | G6: =VLOOKUP(B:B,[1]体检公示名单!$B:$G,6,FALSE) -> 工作人员
A7: 5 | B7: 王宇霆 | C7: =VLOOKUP(B:B,[1]体检公示名单!$B:$C,2,FALSE) -> 男 | D7: =VLOOKUP(B:B,[1]体检公示名单!$B:$D,3,FALSE) -> 101052905216 | E7: =VLOOKUP(B:B,[1]体检公示名单!$B:$E,4,FALSE) -> 待业 | F7: =VLOOKUP(B:B,[1]体检公示名单!$B:$F,5,FALSE) -> 杭州市临安区农业农村局 | G7: =VLOOKUP(B:B,[1]体检公示名单!$B:$G,6,FALSE) -> 工作人员2
A8: 6 | B8: 许越波 | C8: =VLOOKUP(B:B,[1]体检公示名单!$B:$C,2,FALSE) -> 男 | D8: =VLOOKUP(B:B,[1]体检公示名单!$B:$D,3,FALSE) -> 301052909810 | E8: =VLOOKUP(B:B,[1]体检公示名单!$B:$E,4,FALSE) -> 浙江省长兴县农业农村局 | F8: =VLOOKUP(B:B,[1]体检公示名单!$B:$F,5,FALSE) -> 杭州市临安区农业综合行政执法队 | G8: =VLOOKUP(B:B,[1]体检公示名单!$B:$G,6,FALSE) -> 行政执法2
A9: 7 | B9: 孙馨阳 | C9: =VLOOKUP(B:B,[1]体检公示名单!$B:$C,2,FALSE) -> 女 | D9: =VLOOKUP(B:B,[1]体检公示名单!$B:$D,3,FALSE) -> 101052901513 | E9: =VLOOKUP(B:B,[1]体检公示名单!$B:$E,4,FALSE) -> 黑龙江大学 信息管理学院 档案学 （2021年毕业） | F9: =VLOOKUP(B:B,[1]体检公示名单!$B:$F,5,FALSE) -> 杭州市临安区人才管理服务中心（杭州市临安区干部人事档案服务中心） | G9: =VLOOKUP(B:B,[1]体检公示名单!$B:$G,6,FALSE) -> 档案管理
A10: 8 | B10: 周静 | C10: =VLOOKUP(B:B,[1]体检公示名单!$B:$C,2,FALSE) -> 男 | D10: =VLOOKUP(B:B,[1]体检公示名单!$B:$D,3,FALSE) -> 101052902728 | E10: =VLOOKUP(B:B,[1]体检公示名单!$B:$E,4,FALSE) -> 南京财经大学法学院 | F10: =VLOOKUP(B:B,[1]体检公示名单!$B:$F,5,FALSE) -> 杭州市临安区人民法院 | G10: =VLOOKUP(B:B,[1]体检公示名单!$B:$G,6,FALSE) -> 法官助理1
A11: 9 | B11: 祝芷卉 | C11: =VLOOKUP(B:B,[1]体检公示名单!$B:$C,2,FALSE) -> 女 | D11: =VLOOKUP(B:B,[1]体检公示名单!$B:$D,3,FALSE) -> 101052904103 | E11: =VLOOKUP(B:B,[1]体检公示名单!$B:$E,4,FALSE) -> 浙江大学 | F11: =VLOOKUP(B:B,[1]体检公示名单!$B:$F,5,FALSE) -> 杭州市临安区人民法院 | G11: =VLOOKUP(B:B,[1]体检公示名单!$B:$G,6,FALSE) -> 法官助理2
A12: 10 | B12: 黄圣媛 | C12: 女 | D12: 101052902428 | E12: 上海师范大学 | F12: 杭州市临安区人民检察院 | G12: 检察官助理2
A13: 11 | B13: 阙宇涛 | C13: 男 | D13: 101052904420 | E13: 待业 | F13: 杭州市临安区人民检察院 | G13: 检察官助理3（驻监所）
A14: 12 | B14: 刘淼苗 | C14: =VLOOKUP(B:B,[1]体检公示名单!$B:$C,2,FALSE) -> 女 | D14: =VLOOKUP(B:B,[1]体检公示名单!$B:$D,3,FALSE) -> 101052904609 | E14: =VLOOKUP(B:B,[1]体检公示名单!$B:$E,4,FALSE) -> 中国计量学院生命科学学院药学 | F14: =VLOOKUP(B:B,[1]体检公示名单!$B:$F,5,FALSE) -> 杭州市临安区社会保险管理服务中心 | G14: =VLOOKUP(B:B,[1]体检公示名单!$B:$G,6,FALSE) -> 工伤保险管理
A15: 13 | B15: 张晨怡 | C15: =VLOOKUP(B:B,[1]体检公示名单!$B:$C,2,FALSE) -> 女 | D15: =VLOOKUP(B:B,[1]体检公示名单!$B:$D,3,FALSE) -> 101052902024 | E15: =VLOOKUP(B:B,[1]体检公示名单!$B:$E,4,FALSE) -> 待业 | F15: =VLOOKUP(B:B,[1]体检公示名单!$B:$F,5,FALSE) -> 杭州市临安区社会经济调查队 | G15: =VLOOKUP(B:B,[1]体检公示名单!$B:$G,6,FALSE) -> 工作人员2
A16: 14 | B16: 李彦舒 | C16: =VLOOKUP(B:B,[1]体检公示名单!$B:$C,2,FALSE) -> 女 | D16: =VLOOKUP(B:B,[1]体检公示名单!$B:$D,3,FALSE) -> 301052911718 | E16: =VLOOKUP(B:B,[1]体检公示名单!$B:$E,4,FALSE) -> 浙江财经大学会计学院17中加会计2班 | F16: =VLOOKUP(B:B,[1]体检公示名单!$B:$F,5,FALSE) -> 杭州市临安区生态环境保护综合行政执法队 | G16: =VLOOKUP(B:B,[1]体检公示名单!$B:$G,6,FALSE) -> 一线执法4
A17: 15 | B17: 田思婧 | C17: =VLOOKUP(B:B,[1]体检公示名单!$B:$C,2,FALSE) -> 女 | D17: =VLOOKUP(B:B,[1]体检公示名单!$B:$D,3,FALSE) -> 301052910705 | E17: =VLOOKUP(B:B,[1]体检公示名单!$B:$E,4,FALSE) -> 浙江海邦律师事务所 | F17: =VLOOKUP(B:B,[1]体检公示名单!$B:$F,5,FALSE) -> 杭州市临安区生态环境保护综合行政执法队 | G17: =VLOOKUP(B:B,[1]体检公示名单!$B:$G,6,FALSE) -> 一线执法3
A18: 16 | B18: 朱鋆 | C18: =VLOOKUP(B:B,[1]体检公示名单!$B:$C,2,FALSE) -> 男 | D18: =VLOOKUP(B:B,[1]体检公示名单!$B:$D,3,FALSE) -> 301052908210 | E18: =VLOOKUP(B:B,[1]体检公示名单!$B:$E,4,FALSE) -> 待业 | F18: =VLOOKUP(B:B,[1]体检公示名单!$B:$F,5,FALSE) -> 杭州市临安区生态环境保护综合行政执法队 | G18: =VLOOKUP(B:B,[1]体检公示名单!$B:$G,6,FALSE) -> 一线执法1
A19: 17 | B19: 顾振宇 | C19: =VLOOKUP(B:B,[1]体检公示名单!$B:$C,2,FALSE) -> 男 | D19: =VLOOKUP(B:B,[1]体检公示名单!$B:$D,3,FALSE) -> 301052907325 | E19: =VLOOKUP(B:B,[1]体检公示名单!$B:$E,4,FALSE) -> 海盐县食品药品检验检测中心 | F19: =VLOOKUP(B:B,[1]体检公示名单!$B:$F,5,FALSE) -> 杭州市临安区市场监督管理局 | G19: =VLOOKUP(B:B,[1]体检公示名单!$B:$G,6,FALSE) -> 基层市场监管执法3
A20: 18 | B20: 梁哲怡 | C20: =VLOOKUP(B:B,[1]体检公示名单!$B:$C,2,FALSE) -> 女 | D20: =VLOOKUP(B:B,[1]体检公示名单!$B:$D,3,FALSE) -> 301052910626 | E20: =VLOOKUP(B:B,[1]体检公示名单!$B:$E,4,FALSE) -> 上海市长宁区城市运行综合管理指挥中心 | F20: =VLOOKUP(B:B,[1]体检公示名单!$B:$F,5,FALSE) -> 杭州市临安区市场监督管理局 | G20: =VLOOKUP(B:B,[1]体检公示名单!$B:$G,6,FALSE) -> 基层市场监管执法2
A21: 19 | B21: 栾勇 | C21: =VLOOKUP(B:B,[1]体检公示名单!$B:$C,2,FALSE) -> 男 | D21: =VLOOKUP(B:B,[1]体检公示名单!$B:$D,3,FALSE) -> 301052910809 | E21: =VLOOKUP(B:B,[1]体检公示名单!$B:$E,4,FALSE) -> 待业 | F21: =VLOOKUP(B:B,[1]体检公示名单!$B:$F,5,FALSE) -> 杭州市临安区市场监督管理局 | G21: =VLOOKUP(B:B,[1]体检公示名单!$B:$G,6,FALSE) -> 基层市场监管执法1
A22: 20 | B22: 王光耀 | C22: =VLOOKUP(B:B,[1]体检公示名单!$B:$C,2,FALSE) -> 男 | D22: =VLOOKUP(B:B,[1]体检公示名单!$B:$D,3,FALSE) -> 301052907028 | E22: =VLOOKUP(B:B,[1]体检公示名单!$B:$E,4,FALSE) -> 浙江省级机关事业单位办公用房管理中心（劳务派遣） | F22: =VLOOKUP(B:B,[1]体检公示名单!$B:$F,5,FALSE) -> 杭州市临安区市场监督管理局 | G22: =VLOOKUP(B:B,[1]体检公示名单!$B:$G,6,FALSE) -> 基层市场监管执法3
A23: 21 | B23: 李响 | C23: =VLOOKUP(B:B,[1]体检公示名单!$B:$C,2,FALSE) -> 男 | D23: =VLOOKUP(B:B,[1]体检公示名单!$B:$D,3,FALSE) -> 301052908524 | E23: =VLOOKUP(B:B,[1]体检公示名单!$B:$E,4,FALSE) -> 待业 | F23: =VLOOKUP(B:B,[1]体检公示名单!$B:$F,5,FALSE) -> 杭州市临安区市场监管综合行政执法队 | G23: =VLOOKUP(B:B,[1]体检公示名单!$B:$G,6,FALSE) -> 市场监管执法3
A24: 22 | B24: 潘佳晨 | C24: =VLOOKUP(B:B,[1]体检公示名单!$B:$C,2,FALSE) -> 女 | D24: =VLOOKUP(B:B,[1]体检公示名单!$B:$D,3,FALSE) -> 101052900220 | E24: =VLOOKUP(B:B,[1]体检公示名单!$B:$E,4,FALSE) -> 浙江工业大学 | F24: =VLOOKUP(B:B,[1]体检公示名单!$B:$F,5,FALSE) -> 杭州市临安区司法局 | G24: =VLOOKUP(B:B,[1]体检公示名单!$B:$G,6,FALSE) -> 司法助理员3
A25: 23 | B25: 帅昱 | C25: =VLOOKUP(B:B,[1]体检公示名单!$B:$C,2,FALSE) -> 男 | D25: =VLOOKUP(B:B,[1]体检公示名单!$B:$D,3,FALSE) -> 101052902509 | E25: =VLOOKUP(B:B,[1]体检公示名单!$B:$E,4,FALSE) -> 杭州市临安区法律援助中心 | F25: =VLOOKUP(B:B,[1]体检公示名单!$B:$F,5,FALSE) -> 杭州市临安区司法局 | G25: =VLOOKUP(B:B,[1]体检公示名单!$B:$G,6,FALSE) -> 司法助理员1
... A41: 39 | B41: 金梦恬 | C41: =VLOOKUP(B:B,[1]体检公示名单!$B:$C,2,FALSE) -> 女 | D41: =VLOOKUP(B:B,[1]体检公示名单!$B:$D,3,FALSE) -> 101052901202 | E41: =VLOOKUP(B:B,[1]体检公示名单!$B:$E,4,FALSE) -> 杭州市体育事业发展中心 | F41: =VLOOKUP(B:B,[1]体检公示名单!$B:$F,5,FALSE) -> 中共杭州市临安区纪律检查委员会、杭州市临安区监察委员会 | G41: =VLOOKUP(B:B,[1]体检公示名单!$B:$G,6,FALSE) -> 纪检监察
A42: 40 | B42: 苏泽宇 | C42: 男 | D42: 101052903104 | E42: 中国光大银行南京分行 | F42: 杭州市规划和自然资源局临安分局太湖源自然资源所 | G42: 规划和自然资源管理
A43: 41 | B43: 王伟 | C43: 男 | D43: 101052905021 | E43: 中国金茂华东区域宁波公司 | F43: 杭州市规划和自然资源局临安分局龙岗自然资源所 | G43: 规划和自然资源管理
A44: 42 | B44: 樊迎军 | C44: 男 | D44: 101052902116 | E44: 安徽理工大学地球与环境学院 | F44: 杭州市规划和自然资源局临安分局龙岗自然资源所 | G44: 规划和自然资源管理
