Workbook

Sheet Sheet1
A1: 2022年乐清市各级机关单位考试录用公务员拟录用人员名单（一）
A2: 序号 | B2: 招录机关 | C2: 拟录用职位 | D2: 姓名 | E2: 性别 | F2: 准考证号 | G2: 毕业院校或工作单位 | H2: 监督电话
A3: 1 | B3: 中共乐清市纪委市监委机关 | C3: 一级科员1 | D3: 王铁铮 | E3: =VLOOKUP(D3,[1]乐清体检结果8.9!$B:$C,2,FALSE) -> 男 | F3: =VLOOKUP(D3,[2]Sheet1!$B$2:$C$83,2,FALSE) -> 103021702720 | G3: 温州市公共法律服务中心 | H3: 0577-61880958 0577-61880886
A4: 2 | B4: 中共乐清市纪委市监委机关 | C4: 一级科员1 | D4: 洪嘉梁 | E4: =VLOOKUP(D4,[1]乐清体检结果8.9!$B:$C,2,FALSE) -> 男 | F4: =VLOOKUP(D4,[2]Sheet1!$B$2:$C$83,2,FALSE) -> 103021700719 | G4: 温州市市级公办医院管理中心 | H4: 0577-61880958 0577-61880886
A5: 3 | B5: 中共乐清市纪委市监委机关 | C5: 一级科员1 | D5: 郭俊潼 | E5: =VLOOKUP(D5,[1]乐清体检结果8.9!$B:$C,2,FALSE) -> 男 | F5: =VLOOKUP(D5,[2]Sheet1!$B$2:$C$83,2,FALSE) -> 103021700419 | G5: =VLOOKUP(D5,[3]Sheet1!$C$1:$F$89,4,FALSE) -> 中国农业银行温州洞头支行 | H5: 0577-61880958 0577-61880886
A6: 4 | B6: 中共乐清市纪委市监委机关 | C6: 一级科员2 | D6: 王舒婷 | E6: =VLOOKUP(D6,[1]乐清体检结果8.9!$B:$C,2,FALSE) -> 女 | F6: =VLOOKUP(D6,[2]Sheet1!$B$2:$C$83,2,FALSE) -> 103021702311 | G6: 乐清市综合行政执法局乐成中队 | H6: 0577-61880958 0577-61880886
A7: 5 | B7: 中共乐清市纪委市监委机关 | C7: 一级科员2 | D7: 章智薇 | E7: =VLOOKUP(D7,[1]乐清体检结果8.9!$B:$C,2,FALSE) -> 女 | F7: =VLOOKUP(D7,[2]Sheet1!$B$2:$C$83,2,FALSE) -> 103021702209 | G7: =VLOOKUP(D7,[3]Sheet1!$C$1:$F$89,4,FALSE) -> 温州商学院 | H7: 0577-61880958 0577-61880886
A8: 6 | B8: 乐清市乡镇机关 | C8: 一级科员1 | D8: 郑卓 | E8: =VLOOKUP(D8,[1]乐清体检结果8.9!$B:$C,2,FALSE) -> 男 | F8: =VLOOKUP(D8,[2]Sheet1!$B$2:$C$83,2,FALSE) -> 203021802815 | G8: 江苏省广播电视集团 | H8: 0577-61880886
A9: 7 | B9: 乐清市乡镇机关 | C9: 一级科员1 | D9: 金泽鑫 | E9: =VLOOKUP(D9,[1]乐清体检结果8.9!$B:$C,2,FALSE) -> 男 | F9: =VLOOKUP(D9,[2]Sheet1!$B$2:$C$83,2,FALSE) -> 203021803106 | G9: 绍兴文理学院 | H9: 0577-61880886
A10: 8 | B10: 乐清市乡镇机关 | C10: 一级科员1 | D10: 王青旭 | E10: =VLOOKUP(D10,[1]乐清体检结果8.9!$B:$C,2,FALSE) -> 男 | F10: =VLOOKUP(D10,[2]Sheet1!$B$2:$C$83,2,FALSE) -> 203021803323 | G10: 温州市龙湾区状元街道山西岙村 | H10: 0577-61880886
A11: 9 | B11: 乐清市乡镇机关 | C11: 一级科员1 | D11: 毛云鹤 | E11: =VLOOKUP(D11,[1]乐清体检结果8.9!$B:$C,2,FALSE) -> 男 | F11: =VLOOKUP(D11,[2]Sheet1!$B$2:$C$83,2,FALSE) -> 203021800719 | G11: 温州市泰顺县罗阳镇新北社区 | H11: 0577-61880886
A12: 10 | B12: 乐清市乡镇机关 | C12: 一级科员2 | D12: 张鑫 | E12: =VLOOKUP(D12,[1]乐清体检结果8.9!$B:$C,2,FALSE) -> 男 | F12: =VLOOKUP(D12,[2]Sheet1!$B$2:$C$83,2,FALSE) -> 203021801505 | G12: 浙江理工大学 | H12: 0577-61880886
A13: 11 | B13: 乐清市乡镇机关 | C13: 一级科员2 | D13: 汪铖程 | E13: =VLOOKUP(D13,[1]乐清体检结果8.9!$B:$C,2,FALSE) -> 男 | F13: =VLOOKUP(D13,[2]Sheet1!$B$2:$C$83,2,FALSE) -> 203021800304 | G13: 浙江中蓝环境科技有限公司 | H13: 0577-61880886
A14: 12 | B14: 乐清市乡镇机关 | C14: 一级科员2 | D14: 陈昶烽 | E14: =VLOOKUP(D14,[1]乐清体检结果8.9!$B:$C,2,FALSE) -> 男 | F14: =VLOOKUP(D14,[2]Sheet1!$B$2:$C$83,2,FALSE) -> 203021802913 | G14: 温州市信达交通工程试验检测有限公司 | H14: 0577-61880886
A15: 13 | B15: 乐清市乡镇机关 | C15: 一级科员2 | D15: 许潇 | E15: =VLOOKUP(D15,[1]乐清体检结果8.9!$B:$C,2,FALSE) -> 男 | F15: =VLOOKUP(D15,[2]Sheet1!$B$2:$C$83,2,FALSE) -> 203021802530 | G15: 中国地质大学 | H15: 0577-61880886
A16: 14 | B16: 乐清市乡镇机关 | C16: 一级科员3 | D16: 倪瑛 | E16: =VLOOKUP(D16,[1]乐清体检结果8.9!$B:$C,2,FALSE) -> 女 | F16: =VLOOKUP(D16,[2]Sheet1!$B$2:$C$83,2,FALSE) -> 203021801515 | G16: 浙江工商大学 | H16: 0577-61880886
A17: 15 | B17: 乐清市乡镇机关 | C17: 一级科员3 | D17: 李前序 | E17: =VLOOKUP(D17,[1]乐清体检结果8.9!$B:$C,2,FALSE) -> 男 | F17: =VLOOKUP(D17,[2]Sheet1!$B$2:$C$83,2,FALSE) -> 203021803926 | G17: 乐清市城东街道白沙村 | H17: 0577-61880886
A18: 16 | B18: 乐清市乡镇机关 | C18: 一级科员3 | D18: 葛静静 | E18: =VLOOKUP(D18,[1]乐清体检结果8.9!$B:$C,2,FALSE) -> 女 | F18: =VLOOKUP(D18,[2]Sheet1!$B$2:$C$83,2,FALSE) -> 203021803322 | G18: 浙江科技学院 | H18: 0577-61880886
A19: 17 | B19: 乐清市乡镇机关 | C19: 一级科员3 | D19: 林伊凡 | E19: =VLOOKUP(D19,[1]乐清体检结果8.9!$B:$C,2,FALSE) -> 女 | F19: =VLOOKUP(D19,[2]Sheet1!$B$2:$C$83,2,FALSE) -> 203021802302 | G19: 乐清市城南街道宋竹社区 | H19: 0577-61880886
... A28: 26 | B28: 乐清市乡镇机关 | C28: 一级科员6 | D28: 张文彬 | E28: =VLOOKUP(D28,[1]乐清体检结果8.9!$B:$C,2,FALSE) -> 男 | F28: =VLOOKUP(D28,[2]Sheet1!$B$2:$C$83,2,FALSE) -> 203021803125 | G28: 温州市中心医院 | H28: 0577-61880886
A29: 27 | B29: 乐清市乡镇机关 | C29: 一级科员7 | D29: 姚浩丹 | E29: =VLOOKUP(D29,[1]乐清体检结果8.9!$B:$C,2,FALSE) -> 女 | F29: 203021801718 | G29: 浙江中控流体有限公司 | H29: 0577-61880886
A30: 28 | B30: 乐清市乡镇机关 | C30: 一级科员7 | D30: 董乐丹 | E30: =VLOOKUP(D30,[1]乐清体检结果8.9!$B:$C,2,FALSE) -> 女 | F30: =VLOOKUP(D30,[2]Sheet1!$B$2:$C$83,2,FALSE) -> 203021800908 | G30: 杭州师范大学钱江学院 | H30: 0577-61880886
A31: 29 | B31: 乐清市乡镇机关 | C31: 一级科员7 | D31: 翁滨伟 | E31: =VLOOKUP(D31,[1]乐清体检结果8.9!$B:$C,2,FALSE) -> 男 | F31: =VLOOKUP(D31,[2]Sheet1!$B$2:$C$83,2,FALSE) -> 203021801007 | G31: 乐清市北白象镇综合事业服务中心 | H31: 0577-61880886
A32: 30 | B32: 乐清市乡镇机关 | C32: 一级科员8 | D32: 连伟男 | E32: =VLOOKUP(D32,[1]乐清体检结果8.9!$B:$C,2,FALSE) -> 男 | F32: =VLOOKUP(D32,[2]Sheet1!$B$2:$C$83,2,FALSE) -> 203021804103 | G32: 温州市洞头区国有企业审计服务中心 | H32: 0577-61880886
A33: 31 | B33: 乐清市乡镇机关 | C33: 一级科员8 | D33: 黄泽 | E33: =VLOOKUP(D33,[1]乐清体检结果8.9!$B:$C,2,FALSE) -> 男 | F33: =VLOOKUP(D33,[2]Sheet1!$B$2:$C$83,2,FALSE) -> 203021802210 | G33: 乐清市保税物流有限公司 | H33: 0577-61880886
A34: 32 | B34: 乐清市乡镇机关 | C34: 一级科员8 | D34: 陈丹 | E34: =VLOOKUP(D34,[1]乐清体检结果8.9!$B:$C,2,FALSE) -> 女 | F34: =VLOOKUP(D34,[2]Sheet1!$B$2:$C$83,2,FALSE) -> 203021803516 | G34: 太平人寿保险有限公司温州中心支公司 | H34: 0577-61880886
A35: 33 | B35: 乐清市乡镇机关 | C35: 专职人武干部 | D35: 陈悟迪 | E35: =VLOOKUP(D35,[1]乐清体检结果8.9!$B:$C,2,FALSE) -> 男 | F35: =VLOOKUP(D35,[2]Sheet1!$B$2:$C$83,2,FALSE) -> 203021802605 | G35: 乐清市柳市镇华北村 | H35: 0577-88039851 0577-61880886
A36: 34 | B36: 乐清市乡镇机关 | C36: 专职人武干部 | D36: 翁叶凡 | E36: =VLOOKUP(D36,[1]乐清体检结果8.9!$B:$C,2,FALSE) -> 男 | F36: =VLOOKUP(D36,[2]Sheet1!$B$2:$C$83,2,FALSE) -> 203021803809 | G36: 温州市瑞安市飞云街道南港村 | H36: 0577-88039851 0577-61880886
A37: 35 | B37: 乐清市乡镇机关 | C37: 专职人武干部 | D37: 黄传峰 | E37: =VLOOKUP(D37,[1]乐清体检结果8.9!$B:$C,2,FALSE) -> 男 | F37: =VLOOKUP(D37,[2]Sheet1!$B$2:$C$83,2,FALSE) -> 203021802115 | G37: 杭州雀迪创想童年科技有限公司 | H37: 0577-88039851 0577-61880886
A38: 36 | B38: 乐清市乡镇机关 | C38: 专职人武干部 | D38: 陈跃文 | E38: =VLOOKUP(D38,[1]乐清体检结果8.9!$B:$C,2,FALSE) -> 男 | F38: =VLOOKUP(D38,[2]Sheet1!$B$2:$C$83,2,FALSE) -> 203021802128 | G38: 温州市瑞安市玉海街道宾阳门社区 | H38: 0577-88039851 0577-61880886
A39: 37 | B39: 乐清市乡镇机关 | C39: 优秀村干部 | D39: 朱艳丹 | E39: =VLOOKUP(D39,[1]乐清体检结果8.9!$B:$C,2,FALSE) -> 女 | F39: =VLOOKUP(D39,[2]Sheet1!$B$2:$C$83,2,FALSE) -> 403010300312 | G39: 乐清市柳市镇象北村 | H39: 0577-61880886
A40: 38 | B40: 乐清市乡镇机关 | C40: 优秀村干部 | D40: 戈仁智 | E40: =VLOOKUP(D40,[1]乐清体检结果8.9!$B:$C,2,FALSE) -> 男 | F40: =VLOOKUP(D40,[2]Sheet1!$B$2:$C$83,2,FALSE) -> 403010300624 | G40: 乐清市北白象镇白塔王社区 | H40: 0577-61880886
A41: 39 | B41: 乐清市人力资源和社会保障局 | C41: 一级科员1 | D41: 王晨 | E41: =VLOOKUP(D41,[1]乐清体检结果8.9!$B:$C,2,FALSE) -> 女 | F41: =VLOOKUP(D41,[2]Sheet1!$B$2:$C$83,2,FALSE) -> 103021703919 | G41: 乐清市城东街道新塘村 | H41: 0577-61880270 0577-61880886
... A43: 41 | B43: 乐清市就业管理处 | C43: 一级科员1 | D43: 胡浩然 | E43: =VLOOKUP(D43,[1]乐清体检结果8.9!$B:$C,2,FALSE) -> 男 | F43: =VLOOKUP(D43,[2]Sheet1!$B$2:$C$83,2,FALSE) -> 103021701708 | G43: 温州杰控电器有限公司 | H43: 0577-61880270 0577-61880886
A44: 42 | B44: 乐清市人民检察院 | C44: 五级检察官助理1 | D44: 郑爽爽 | E44: =VLOOKUP(D44,[1]乐清体检结果8.9!$B:$C,2,FALSE) -> 女 | F44: 103021703421 | G44: =VLOOKUP(D44,[3]Sheet1!$C$1:$F$89,4,FALSE) -> 中国计量大学 | H44: 0577-61606192 0577-61880886
A45: 43 | B45: 乐清市人民检察院 | C45: 五级检察官助理2 | D45: 柯景彬 | E45: =VLOOKUP(D45,[1]乐清体检结果8.9!$B:$C,2,FALSE) -> 男 | F45: =VLOOKUP(D45,[2]Sheet1!$B$2:$C$83,2,FALSE) -> 103021701630 | G45: 杭州市钱塘区人民检察院 | H45: 0577-61606192 0577-61880886
A46: 44 | B46: 乐清市人民检察院 | C46: 五级检察官助理3 | D46: 王婉婷 | E46: =VLOOKUP(D46,[1]乐清体检结果8.9!$B:$C,2,FALSE) -> 女 | F46: =VLOOKUP(D46,[2]Sheet1!$B$2:$C$83,2,FALSE) -> 103021701816 | G46: =VLOOKUP(D46,[3]Sheet1!$C$1:$F$89,4,FALSE) -> 华东政法大学 | H46: 0577-61606192 0577-61880886
A47: 45 | B47: 乐清市人民检察院 | C47: 五级检察官助理4 | D47: 叶夫同 | E47: =VLOOKUP(D47,[1]乐清体检结果8.9!$B:$C,2,FALSE) -> 男 | F47: =VLOOKUP(D47,[2]Sheet1!$B$2:$C$83,2,FALSE) -> 103021701110 | G47: 乐清市清江镇安监所 | H47: 0577-61606192 0577-61880886
A48: 46 | B48: 乐清市人民法院 | C48: 五级法官助理1 | D48: 张弛 | E48: =VLOOKUP(D48,[1]乐清体检结果8.9!$B:$C,2,FALSE) -> 男 | F48: =VLOOKUP(D48,[2]Sheet1!$B$2:$C$83,2,FALSE) -> 103021700307 | G48: 乐清市乐成街道民丰社区 | H48: 0577-61601408 0577-61880886
A49: 47 | B49: 乐清市人民法院 | C49: 五级法官助理2 | D49: 高梦琳 | E49: =VLOOKUP(D49,[1]乐清体检结果8.9!$B:$C,2,FALSE) -> 女 | F49: =VLOOKUP(D49,[2]Sheet1!$B$2:$C$83,2,FALSE) -> 103021703624 | G49: =VLOOKUP(D49,[3]Sheet1!$C$1:$F$89,4,FALSE) -> 浙江光正大律师事务所 | H49: 0577-61601408 0577-61880886
A50: 48 | B50: 乐清市发展和改革局 | C50: 一级科员1 | D50: 刘子珺 | E50: =VLOOKUP(D50,[1]乐清体检结果8.9!$B:$C,2,FALSE) -> 女 | F50: =VLOOKUP(D50,[2]Sheet1!$B$2:$C$83,2,FALSE) -> 103021700517 | G50: 江西省吉安市吉安县敦石敦厚镇梨山社区 | H50: 0577-61882132 0577-61880886
A51: 49 | B51: 乐清市发展和改革局 | C51: 一级科员2 | D51: 叶子昊 | E51: =VLOOKUP(D51,[1]乐清体检结果8.9!$B:$C,2,FALSE) -> 男 | F51: =VLOOKUP(D51,[2]Sheet1!$B$2:$C$83,2,FALSE) -> 103021702708 | G51: 浙大宁波理工学院 | H51: 0577-61882132 0577-61880886
A52: 50 | B52: 乐清市发展和改革局 | C52: 一级科员3 | D52: 冯宁宁 | E52: =VLOOKUP(D52,[1]乐清体检结果8.9!$B:$C,2,FALSE) -> 女 | F52: =VLOOKUP(D52,[2]Sheet1!$B$2:$C$83,2,FALSE) -> 103021700213 | G52: 浙江大学 | H52: 0577-61882132 0577-61880886
A53: 51 | B53: 乐清市司法局 | C53: 一级科员 | D53: 陈可可 | E53: =VLOOKUP(D53,[1]乐清体检结果8.9!$B:$C,2,FALSE) -> 女 | F53: =VLOOKUP(D53,[2]Sheet1!$B$2:$C$83,2,FALSE) -> 103021703311 | G53: =VLOOKUP(D53,[3]Sheet1!$C$1:$F$89,4,FALSE) -> 浙江工商大学 | H53: 0577-61889610 0577-61880886
A54: 52 | B54: 乐清市安全生产监察大队 | C54: 一级科员 | D54: 王秋怡 | E54: =VLOOKUP(D54,[1]乐清体检结果8.9!$B:$C,2,FALSE) -> 女 | F54: 303021805118 | G54: =VLOOKUP(D54,[3]Sheet1!$C$1:$F$89,4,FALSE) -> 温州市雁荡山旅游发展集团有限公司 | H54: 0577-61880983 0577-61880886
A55: 53 | B55: 乐清市政务服务中心 | C55: 一级科员 | D55: 郑天浩 | E55: =VLOOKUP(D55,[1]乐清体检结果8.9!$B:$C,2,FALSE) -> 男 | F55: =VLOOKUP(D55,[2]Sheet1!$B$2:$C$83,2,FALSE) -> 103021702904 | G55: 乐清市北白象镇潘垟村 | H55: 0577-61882311 0577-61880886
A56: 54 | B56: 乐清市档案馆 | C56: 一级科员 | D56: 姚雪洁 | E56: =VLOOKUP(D56,[1]乐清体检结果8.9!$B:$C,2,FALSE) -> 女 | F56: =VLOOKUP(D56,[2]Sheet1!$B$2:$C$83,2,FALSE) -> 103021701407 | G56: 温州职业技术学院永嘉学院 | H56: 0577-61882708 0577-61880886
A57: 55 | B57: 乐清市殡葬管理所 | C57: 一级科员 | D57: 尤祖茹 | E57: =VLOOKUP(D57,[1]乐清体检结果8.9!$B:$C,2,FALSE) -> 女 | F57: =VLOOKUP(D57,[2]Sheet1!$B$2:$C$83,2,FALSE) -> 103021701821 | G57: 杭州师范大学 | H57: 0577-61880236 0577-61880886
A58: 56 | B58: 乐清市经济和信息化局 | C58: 一级科员 | D58: 王松乐 | E58: =VLOOKUP(D58,[1]乐清体检结果8.9!$B:$C,2,FALSE) -> 男 | F58: =VLOOKUP(D58,[2]Sheet1!$B$2:$C$83,2,FALSE) -> 103021700512 | G58: 温州市发展促进中心 | H58: 0577-62535890 0577-61880886
A59: 57 | B59: 乐清市经济和信息化局 | C59: 一级科员 | D59: 黄树琪 | E59: =VLOOKUP(D59,[1]乐清体检结果8.9!$B:$C,2,FALSE) -> 男 | F59: =VLOOKUP(D59,[2]Sheet1!$B$2:$C$83,2,FALSE) -> 103021701309 | G59: 温州市不动产登记服务中心龙湾办证处 | H59: 0577-62535890 0577-61880886
A60: 58 | B60: 乐清市市场监督管理局基层监管所 | C60: 一级科员1 | D60: 潘周亮 | E60: =VLOOKUP(D60,[1]乐清体检结果8.9!$B:$C,2,FALSE) -> 男 | F60: =VLOOKUP(D60,[2]Sheet1!$B$2:$C$83,2,FALSE) -> 303021805106 | G60: 温州市瑞安市金亮发农业专业合作社 | H60: 0577-62555020 0577-61880886
A61: 59 | B61: 乐清市市场监督管理局基层监管所 | C61: 一级科员2 | D61: 万宏伟 | E61: =VLOOKUP(D61,[1]乐清体检结果8.9!$B:$C,2,FALSE) -> 男 | F61: =VLOOKUP(D61,[2]Sheet1!$B$2:$C$83,2,FALSE) -> 303021804601 | G61: 乐清市天成街道万桥一村 | H61: 0577-62555020 0577-61880886
A62: 60 | B62: 乐清市市场监督管理局基层监管所 | C62: 一级科员3 | D62: 金曲 | E62: =VLOOKUP(D62,[1]乐清体检结果8.9!$B:$C,2,FALSE) -> 女 | F62: =VLOOKUP(D62,[2]Sheet1!$B$2:$C$83,2,FALSE) -> 303021804722 | G62: 乐清农村商业银行股份有限公司 | H62: 0577-62555020 0577-61880886
A63: 61 | B63: 乐清市市场监督管理局基层监管所 | C63: 一级科员4 | D63: 王正浩 | E63: =VLOOKUP(D63,[1]乐清体检结果8.9!$B:$C,2,FALSE) -> 男 | F63: =VLOOKUP(D63,[2]Sheet1!$B$2:$C$83,2,FALSE) -> 303021805309 | G63: 温州市龙湾区人力资源和社会保障局 | H63: 0577-62555020 0577-61880886
A64: 62 | B64: 乐清市市场监督管理局基层监管所 | C64: 一级科员5 | D64: 董登博 | E64: =VLOOKUP(D64,[1]乐清体检结果8.9!$B:$C,2,FALSE) -> 男 | F64: =VLOOKUP(D64,[2]Sheet1!$B$2:$C$83,2,FALSE) -> 303021804622 | G64: 温州市永嘉县瓯北街道创新社区 | H64: 0577-62555020 0577-61880886
A65: 63 | B65: 乐清市市场监督管理局基层监管所 | C65: 一级科员5 | D65: 陈乐焕 | E65: =VLOOKUP(D65,[1]乐清体检结果8.9!$B:$C,2,FALSE) -> 男 | F65: =VLOOKUP(D65,[2]Sheet1!$B$2:$C$83,2,FALSE) -> 303021805327 | G65: 温州医科大学 | H65: 0577-62555020 0577-61880886
A66: 64 | B66: 乐清市市场监督管理局基层监管所 | C66: 一级科员5 | D66: 瞿子童 | E66: =VLOOKUP(D66,[1]乐清体检结果8.9!$B:$C,2,FALSE) -> 男 | F66: =VLOOKUP(D66,[2]Sheet1!$B$2:$C$83,2,FALSE) -> 303021805028 | G66: 徐州医科大学 | H66: 0577-62555020 0577-61880886
... A71: 69 | B71: 乐清市农业农村局 | C71: 一级科员1 | D71: 张心怡 | E71: =VLOOKUP(D71,[1]乐清体检结果8.9!$B:$C,2,FALSE) -> 女 | F71: =VLOOKUP(D71,[2]Sheet1!$B$2:$C$83,2,FALSE) -> 103021701318 | G71: 福建省泉州市泉港区市政公用事业服务中心 | H71: 0577-61880285 0577-61880886
A72: 70 | B72: 乐清市畜牧兽医发展中心 | C72: 一级科员1 | D72: 陈紫灵 | E72: =VLOOKUP(D72,[1]乐清体检结果8.9!$B:$C,2,FALSE) -> 女 | F72: 103021704210 | G72: 温州市洞头区昆鹏街道瓯华路 | H72: 0577-61880285 0577-61880886
A73: 71 | B73: 乐清市畜牧兽医发展中心 | C73: 一级科员2 | D73: 严瑜 | E73: =VLOOKUP(D73,[1]乐清体检结果8.9!$B:$C,2,FALSE) -> 女 | F73: =VLOOKUP(D73,[2]Sheet1!$B$2:$C$83,2,FALSE) -> 103021702507 | G73: 江苏省丹阳市云阳街道太阳城社区 | H73: 0577-61880285 0577-61880886
A74: 72 | B74: 乐清市畜牧兽医发展中心 | C74: 一级科员2 | D74: 关钦泽 | E74: =VLOOKUP(D74,[1]乐清体检结果8.9!$B:$C,2,FALSE) -> 女 | F74: 103021701619 | G74: 黑龙江省哈尔滨市道里区工程街道工程社区 | H74: 0577-61880285 0577-61880886
A75: 73 | B75: 乐清市畜牧兽医发展中心 | C75: 一级科员3 | D75: 林声洲 | E75: =VLOOKUP(D75,[1]乐清体检结果8.9!$B:$C,2,FALSE) -> 男 | F75: =VLOOKUP(D75,[2]Sheet1!$B$2:$C$83,2,FALSE) -> 103021700325 | G75: 温州市瓯海区新桥街道三浃社区 | H75: 0577-61880285 0577-61880886
A76: 74 | B76: 乐清市农机发展中心 | C76: 一级科员 | D76: 胡子仪 | E76: =VLOOKUP(D76,[1]乐清体检结果8.9!$B:$C,2,FALSE) -> 女 | F76: =VLOOKUP(D76,[2]Sheet1!$B$2:$C$83,2,FALSE) -> 103021703828 | G76: 华中农业大学 | H76: 0577-61880285 0577-61880886
A77: 75 | B77: 乐清市乐清湾港区管委会 | C77: 一级科员 | D77: 邓杰 | E77: =VLOOKUP(D77,[1]乐清体检结果8.9!$B:$C,2,FALSE) -> 男 | F77: =VLOOKUP(D77,[2]Sheet1!$B$2:$C$83,2,FALSE) -> 103021701629 | G77: 浙江万里学院 | H77: 0577-55118157 0577-61880886
A78: 76 | B78: 乐清市文学艺术界联合会 | C78: 一级科员 | D78: 林芊孜 | E78: =VLOOKUP(D78,[1]乐清体检结果8.9!$B:$C,2,FALSE) -> 女 | F78: =VLOOKUP(D78,[2]Sheet1!$B$2:$C$83,2,FALSE) -> 103021701901 | G78: 温州市苍南县科学技术局 | H78: 0577-61880356 0577-61880886
A79: 77 | B79: 乐清市审计局 | C79: 一级科员 | D79: 林慕寅 | E79: =VLOOKUP(D79,[1]乐清体检结果8.9!$B:$C,2,FALSE) -> 女 | F79: =VLOOKUP(D79,[2]Sheet1!$B$2:$C$83,2,FALSE) -> 103021701517 | G79: 乐清市城南街道南岸社区 | H79: 0577-61880576 0577-61880886
A80: 78 | B80: 乐清市社会经济调查队 | C80: 一级科员 | D80: 倪舒琪 | E80: 女 | F80: 103021703019 | G80: 乐清市磐石镇河北村 | H80: 0577-61880331 0577-61880886

Sheet Sheet2

Sheet Sheet3
